BEGIN:VCALENDAR
VERSION:2.0
PRODID:-//hacksw/handcal//NONSGML v1.0//EN
BEGIN:VEVENT
SUMMARY:LA TREVARESSE
UID:2ff06b3f-e4f0-462a-bf69-17771b0de482
DTSTART:20260418T220000Z
DTEND:20260419T220000Z
LOCATION:Localisation   
CATEGORIES:Sportif
STATUS:
URL;VALUE=URI:https://www.elan-lambescain.fr/evenements/2026/04/19/la-trevaresse-2443024
END:VEVENT
END:VCALENDAR
